BEGIN:VCALENDAR
VERSION:2.0
PRODID:-//Claudio Bettinelli - ECPv6.15.13//NONSGML v1.0//EN
CALSCALE:GREGORIAN
METHOD:PUBLISH
X-WR-CALNAME:Claudio Bettinelli
X-ORIGINAL-URL:https://claudiobettinelli.com
X-WR-CALDESC:Évènements pour Claudio Bettinelli
REFRESH-INTERVAL;VALUE=DURATION:PT1H
X-Robots-Tag:noindex
X-PUBLISHED-TTL:PT1H
BEGIN:VTIMEZONE
TZID:Europe/Paris
BEGIN:DAYLIGHT
TZOFFSETFROM:+0100
TZOFFSETTO:+0200
TZNAME:CEST
DTSTART:20250330T010000
END:DAYLIGHT
BEGIN:STANDARD
TZOFFSETFROM:+0200
TZOFFSETTO:+0100
TZNAME:CET
DTSTART:20251026T010000
END:STANDARD
BEGIN:DAYLIGHT
TZOFFSETFROM:+0100
TZOFFSETTO:+0200
TZNAME:CEST
DTSTART:20260329T010000
END:DAYLIGHT
BEGIN:STANDARD
TZOFFSETFROM:+0200
TZOFFSETTO:+0100
TZNAME:CET
DTSTART:20261025T010000
END:STANDARD
BEGIN:DAYLIGHT
TZOFFSETFROM:+0100
TZOFFSETTO:+0200
TZNAME:CEST
DTSTART:20270328T010000
END:DAYLIGHT
BEGIN:STANDARD
TZOFFSETFROM:+0200
TZOFFSETTO:+0100
TZNAME:CET
DTSTART:20271031T010000
END:STANDARD
END:VTIMEZONE
BEGIN:VEVENT
DTSTART;TZID=Europe/Paris:20260421T200000
DTEND;TZID=Europe/Paris:20260421T213000
DTSTAMP:20260421T023230
CREATED:20260316T133156Z
LAST-MODIFIED:20260316T133158Z
UID:5831-1776801600-1776807000@claudiobettinelli.com
SUMMARY:The Fairy Queeen - Passion Baroque en Loire
DESCRIPTION:// Unisoni \n\n\n\n\n\nDans le cadre du programme de cette 2ème édition\, un évènement exceptionnel sera proposé au public le mardi 21 avril 2026 à 20h00 à la Comète de Saint-Etienne. \n\n\n\nIl s’agit de  » The Fairy Queen » d’Henry Purcell (La Reine des Fées). Inspiré de la comédie de William Shakespeare  » le songe d’une nuit d’été « \, « The Fairy Queen » est un semi-opéra\, de forme hybride entre le théâtre et l’opéra. 
URL:https://claudiobettinelli.com/event/the-fairy-queeen-passion-baroque-en-loire/
LOCATION:La comète\, 7 Av. Président Emile Loubet\, Saint-Étienne\, 42000
END:VEVENT
END:VCALENDAR